BEGIN:VCALENDAR
VERSION:2.0
PRODID:-//eventon.com NONSGML v1.0//EN
CALSCALE:GREGORIAN
METHOD:PUBLISH
BEGIN:VEVENT
UID:69e9ec37ad519
DTSTAMP:20260423T095359Z
DTSTART:20250322T130000Z
DTEND:20250322T160000Z
LOCATION:St. Josef Hersberg Schloss Hersberg 1\,  88090 Immenstaad/Bodensee
SUMMARY:Horch\,  da klopft die Seele an!
DESCRIPTION:Samstag\,  22. MÃ¤rz 2025\, Â  14.00 UhrÂ  &#8211;Â  17.00 UhrÂ
   Vortrag â€“ Kaffee und Kuchen â€“ Austausch Bei diesem Thema geht es daru
 m â€“ wie auch in unserem\,  unter gleichem Titel erschienen\,  Buch â€“ de
 n Menschen ZusammenhÃ¤nge zwischen seelischem Schmerz und kÃ¶rperlichen Bes
 chwerden nÃ¤herzubringen. Unser Hauptaugenmerk liegt dabei auf der Vermittl
 ung[..]\nhttps://www.pallottiner.org/events/horch-da-klopft-die-seele-an-2/
URL:https://www.pallottiner.org/events/horch-da-klopft-die-seele-an-2/
END:VEVENT
END:VCALENDAR