BEGIN:VCALENDAR
VERSION:2.0
PRODID:-//eventon.com NONSGML v1.0//EN
CALSCALE:GREGORIAN
METHOD:PUBLISH
BEGIN:VEVENT
UID:69e9fee03182a
DTSTAMP:20260423T111336Z
DTSTART:20241126T130000Z
DTEND:20241126T180000Z
LOCATION:Apostolatshaus Hofstetten Hofstetten 1\,  93167 Falkenstein/Oberpfalz
SUMMARY:Oasennachmittag - "aufgerichtet werden" (KEB)
DESCRIPTION:Dienstag\,  26. November 2024   14.00 Uhr  &#8211;  19.00 U
 hr Die biblische Heilsgeschichte von der gekrümmten Frau zeigt uns\,  dass
  Jesus den Menschen Ansehen gibt und sie damit aufrichtet zu einem Leben in
  Fülle. Dieser Geschichte wollen wir an diesem Nachmittag nachspüren und 
 für unser eigenes Leben fruchtbar machen. &nbsp; Leitung:[..]\nhttps://www
 .pallottiner.org/events/oasennachmittag-aufgerichtet-werden-keb/
URL:https://www.pallottiner.org/events/oasennachmittag-aufgerichtet-werden-keb/
END:VEVENT
END:VCALENDAR