BEGIN:VCALENDAR
VERSION:2.0
PRODID:-//eventon.com NONSGML v1.0//EN
CALSCALE:GREGORIAN
METHOD:PUBLISH
BEGIN:VEVENT
UID:69ea133880838
DTSTAMP:20260423T124024Z
DTSTART:20240517T160000Z
DTEND:20240519T110000Z
LOCATION:Haus St. Ulrich Hochaltingen St.-Ulrich-Straße 4\,  86742 Fremdingen
SUMMARY:Begegnungstage für Katechisten und für neue Interessierte
DESCRIPTION:Freitag\,  17. Mai 2024   18.00 Uhr   &#8211;   Sonntag\,
   19. Mai 2024   13.00 Uhr Pfingsten erleben in der Gemeinschaft Besonder
 s eingeladen sind die Katechisten und alle\,  die sich für die Katechisten
 ausbildung interessieren. Elemente: Feier der Pfingstvigil\,  Vorträge\,  
 Austausch in Kleingruppen\,  Beichtmöglichkeit\,  Eucharistiefeier Leitung
 : P. Hans Buob SAC\,  P. Georg Gantioler FSO[..]\nhttps://www.pallottiner.o
 rg/events/begegnungstage-fuer-katechisten-und-fuer-neue-interessierte/
URL:https://www.pallottiner.org/events/begegnungstage-fuer-katechisten-und-fuer-neue-interessierte/
END:VEVENT
END:VCALENDAR