BEGIN:VCALENDAR
VERSION:2.0
PRODID:-//eventon.com NONSGML v1.0//EN
CALSCALE:GREGORIAN
METHOD:PUBLISH
BEGIN:VEVENT
UID:69ea29a1d0022
DTSTAMP:20260423T141601Z
DTSTART:20240420T073000Z
DTEND:20240421T143000Z
LOCATION:Forum Vinzenz Pallotti Pallottistr. 3\,  56174 Vallendar
SUMMARY:Coach dich selbst
DESCRIPTION:Samstag\,  20. April 2024\,   09.30 Uhr  &#8211;  Sonntag\, 
  21. April 2024\,   16.30 Uhr Leichter Entscheidungen treffen? / Gute Vors
 ätze endlich in die Tat umsetzen? / Ihre Ziele mit einfachen Methoden wirk
 sam verfolgen? Selbstmanagement mit dem Zürcher Ressourcen Modell ZRM unte
 rstützt Sie dabei\,  Ihre Ressourcen zu entdecken und als Stärke zu[..]\n
 https://www.pallottiner.org/events/coach-dich-selbst/
URL:https://www.pallottiner.org/events/coach-dich-selbst/
END:VEVENT
END:VCALENDAR