BEGIN:VCALENDAR
VERSION:2.0
PRODID:-//eventon.com NONSGML v1.0//EN
CALSCALE:GREGORIAN
METHOD:PUBLISH
BEGIN:VEVENT
UID:69ea0217af0b0
DTSTAMP:20260423T112719Z
DTSTART:20241228T070000Z
DTEND:20250104T170000Z
LOCATION:Tobit Reisen Wiesbadenerstr. 1 65549 Limburg
SUMMARY:Jahreswechsel in Kloster Waldsassen
DESCRIPTION:8-tägige Busreise   28.12.2024 &#8211; 04.01.2025 Tag: Anrei
 se Waldsassen (Zimmerbezug für 7 Nächte im Gästehaus des Klosters) Tag: 
 Waldsassen (ganztägiger Aufenthalt\,  Besichtigungen\,  Freizeit) Tag: Tep
 l und Marienbad (u.a. Prämonstratenser-Abtei Tepl\,  Kurort Marienbad\,  S
 tadtführung) Tag: Silvester in Waldsassen (Dreifaltigkeitskirche Kappl\,  
 Totentanzkapelle in Wondreb\,  abends Silvesterfeier mit Menü) Tag: Prosit
  Neujahr! &#8211; Freie[..]\nhttps://www.pallottiner.org/events/jahreswechs
 el-in-kloster-waldsassen/
URL:https://www.pallottiner.org/events/jahreswechsel-in-kloster-waldsassen/
END:VEVENT
END:VCALENDAR