BEGIN:VCALENDAR
VERSION:2.0
PRODID:-//eventon.com NONSGML v1.0//EN
CALSCALE:GREGORIAN
METHOD:PUBLISH
BEGIN:VEVENT
UID:69ea2a7bb429d
DTSTAMP:20260423T141939Z
DTSTART:20241110T070000Z
DTEND:20241116T170000Z
LOCATION:Tobit Reisen Wiesbadenerstr. 1 65549 Limburg
SUMMARY:Rom: Kirche\,  Kunst und Küche
DESCRIPTION:7-tägige Flugreise   10.11.2024 &#8211; 16.11.2024 Tag: Anre
 ise Rom (Zimmerbezug für 6  Nächte in der Casa Bonus Pastor) Tag: Der Va
 tikan: Museen und Petersdom Tag: Galleria Borghese &#8211; Spaziergang zum 
 hl. Vinzenz Pallotti Tag: &#8222;Habemus Papam&#8220; &#8211; Teilnahme an 
 der Generalaudienz des Papstes\,  nachmittags freie Zeit Tag: Ausflug in di
 e Albaner[..]\nhttps://www.pallottiner.org/events/rom-kirche-kunst-und-kuec
 he/
URL:https://www.pallottiner.org/events/rom-kirche-kunst-und-kueche/
END:VEVENT
END:VCALENDAR