BEGIN:VCALENDAR
VERSION:2.0
PRODID:-//eventon.com NONSGML v1.0//EN
CALSCALE:GREGORIAN
METHOD:PUBLISH
BEGIN:VEVENT
UID:69ea0da63b241
DTSTAMP:20260423T121638Z
DTSTART:20241006T060000Z
DTEND:20241013T160000Z
LOCATION:Tobit Reisen Wiesbadenerstr. 1 65549 Limburg
SUMMARY:SÃ¼dtirol - Kultur und Natur
DESCRIPTION:8-tÃ¤gige BusreiseÂ  Â 06.10.2024 &#8211; 13.10.2024 Tag: Anrei
 se SÃ¼dtirol (Zimmerbezug fÃ¼r 7Â  NÃ¤chte im Kleinkunsthotel Naturns) Tag:
  Meran &#8211; Schloss Trauttmannsdorff (u.a. Spaziergang durch Meran\,  GÃ
 ¤rten von Schloss Trauttmannsdorf) Tag: Churburg &#8211; Glurns &#8211; Mar
 ienberg (u.a. Besichtigung der Churburg\,  Rundgang Glurns\,  Abtei Marienb
 erg) Tag: Naturns &#8211; Schnalstal (u.a. Besichtigung Naturns\,  Weinverk
 ostung[..]\nhttps://www.pallottiner.org/events/suedtirol-kultur-und-natur/
URL:https://www.pallottiner.org/events/suedtirol-kultur-und-natur/
END:VEVENT
END:VCALENDAR