BEGIN:VCALENDAR
VERSION:2.0
PRODID:-//eventon.com NONSGML v1.0//EN
CALSCALE:GREGORIAN
METHOD:PUBLISH
BEGIN:VEVENT
UID:69e4cbaebfbd5
DTSTAMP:20260419T123350Z
DTSTART:20241003T060000Z
DTEND:20241010T160000Z
LOCATION:Tobit Reisen Wiesbadenerstr. 1 65549 Limburg
SUMMARY:Bosnien-Herzegowina - Wallfahrt nach Medjugorje
DESCRIPTION:8-tägige Flugreise   03.10.2024 &#8211; 10.10.2024 Tag: Anre
 ise (Flug\,  Zimmerbezug für 5  Nächte im Gästehaus der poln. Pallottin
 er) Tag: Medjugorje und Stolac (u.a. Kennenlernen des Wallfahrtsortes\,  St
 ecci-Grabsteine) Tag: Mostar und Blagaj (u.a. Rundgang durch Altstadt\,  Be
 such ehemaliges Derwisch Kloster) Tag: Wallfahrtstag (ganztägig in Medjugo
 rje) Tag: Die Bucht von Neum (Fahrt an[..]\nhttps://www.pallottiner.org/eve
 nts/bosnien-herzegowina-wallfahrt-nach-medjugorje/
URL:https://www.pallottiner.org/events/bosnien-herzegowina-wallfahrt-nach-medjugorje/
END:VEVENT
END:VCALENDAR